BEGIN:VCALENDAR
VERSION:2.0
PRODID:-//sportcafe.ro - ECPv6.15.11//NONSGML v1.0//EN
CALSCALE:GREGORIAN
METHOD:PUBLISH
X-WR-CALNAME:sportcafe.ro
X-ORIGINAL-URL:https://sportcafe.ro
X-WR-CALDESC:Evenimente pentru sportcafe.ro
REFRESH-INTERVAL;VALUE=DURATION:PT1H
X-Robots-Tag:noindex
X-PUBLISHED-TTL:PT1H
BEGIN:VTIMEZONE
TZID:Europe/Bucharest
BEGIN:DAYLIGHT
TZOFFSETFROM:+0200
TZOFFSETTO:+0300
TZNAME:EEST
DTSTART:20250330T010000
END:DAYLIGHT
BEGIN:STANDARD
TZOFFSETFROM:+0300
TZOFFSETTO:+0200
TZNAME:EET
DTSTART:20251026T010000
END:STANDARD
BEGIN:DAYLIGHT
TZOFFSETFROM:+0200
TZOFFSETTO:+0300
TZNAME:EEST
DTSTART:20260329T010000
END:DAYLIGHT
BEGIN:STANDARD
TZOFFSETFROM:+0300
TZOFFSETTO:+0200
TZNAME:EET
DTSTART:20261025T010000
END:STANDARD
BEGIN:DAYLIGHT
TZOFFSETFROM:+0200
TZOFFSETTO:+0300
TZNAME:EEST
DTSTART:20270328T010000
END:DAYLIGHT
BEGIN:STANDARD
TZOFFSETFROM:+0300
TZOFFSETTO:+0200
TZNAME:EET
DTSTART:20271031T010000
END:STANDARD
END:VTIMEZONE
BEGIN:VEVENT
DTSTART;TZID=Europe/Bucharest:20260422T200000
DTEND;TZID=Europe/Bucharest:20260422T200000
DTSTAMP:20260422T022851
CREATED:20260129T102721Z
LAST-MODIFIED:20260224T144712Z
UID:4246-1776888000-1776888000@sportcafe.ro
SUMMARY:Concert Eros Ramazzotti la Romexpo\, București
DESCRIPTION:Dupa showul soldout de acum doi ani\, Eros Ramazzotti revine la Bucuresti pe 22 aprilie 2026 la Romexpo in cadrul turneului mondial „Una Storia Importante”. \nVideoclipurile care au apărut neașteptat în ultimele zile pe străzile din New York\, Madrid și Buenos Aires au stârnit entuziasm. Acum\, totul capătă contur: Eros Ramazzotti anunță TURNEUL MONDIAL UNA STORIA IMPORTANTE\, o călătorie muzicală ce va începe în Februarie 2026. \nBILETE AICI
URL:https://sportcafe.ro/eveniment/concert-eros-ramazzotti/
LOCATION:Romexpo\, Bulevardul Mărăști\, București\, Romania
CATEGORIES:CONCERTE
ATTACH;FMTTYPE=image/jpeg:https://sportcafe.ro/wp-content/uploads/2026/01/eveniment-concert-general.jpg
END:VEVENT
END:VCALENDAR