BEGIN:VCALENDAR
VERSION:2.0
PRODID:-//sportcafe.ro - ECPv6.15.11//NONSGML v1.0//EN
CALSCALE:GREGORIAN
METHOD:PUBLISH
X-WR-CALNAME:sportcafe.ro
X-ORIGINAL-URL:https://sportcafe.ro
X-WR-CALDESC:Evenimente pentru sportcafe.ro
REFRESH-INTERVAL;VALUE=DURATION:PT1H
X-Robots-Tag:noindex
X-PUBLISHED-TTL:PT1H
BEGIN:VTIMEZONE
TZID:Europe/Bucharest
BEGIN:DAYLIGHT
TZOFFSETFROM:+0200
TZOFFSETTO:+0300
TZNAME:EEST
DTSTART:20240331T010000
END:DAYLIGHT
BEGIN:STANDARD
TZOFFSETFROM:+0300
TZOFFSETTO:+0200
TZNAME:EET
DTSTART:20241027T010000
END:STANDARD
BEGIN:DAYLIGHT
TZOFFSETFROM:+0200
TZOFFSETTO:+0300
TZNAME:EEST
DTSTART:20250330T010000
END:DAYLIGHT
BEGIN:STANDARD
TZOFFSETFROM:+0300
TZOFFSETTO:+0200
TZNAME:EET
DTSTART:20251026T010000
END:STANDARD
BEGIN:DAYLIGHT
TZOFFSETFROM:+0200
TZOFFSETTO:+0300
TZNAME:EEST
DTSTART:20260329T010000
END:DAYLIGHT
BEGIN:STANDARD
TZOFFSETFROM:+0300
TZOFFSETTO:+0200
TZNAME:EET
DTSTART:20261025T010000
END:STANDARD
END:VTIMEZONE
BEGIN:VEVENT
DTSTART;TZID=Europe/Bucharest:20251012T090000
DTEND;TZID=Europe/Bucharest:20251012T090000
DTSTAMP:20260421T052532
CREATED:20251010T215514Z
LAST-MODIFIED:20251010T215828Z
UID:1832-1760259600-1760259600@sportcafe.ro
SUMMARY:RAIFFEISEN BANK BUCHAREST MARATHON 2025
DESCRIPTION:Editia a 18-a a Maratonului Bucuresti (Evenimentul si toate cursele asociate) este organizata in perioada 11-12 octombrie 2025 de catre ASOCIATIA CLUBUL SPORTIV BUCHAREST RUNNING CLUB (Organizatorul) in parteneriat cu FEDERATIA ROMANA DE ATLETISM\, PRIMARIA MUNICIPIULUI BUCURESTI . Organizatorul poate fi contactat in scris la adresa: Bucuresti\, Strada Armeneasca\,23 info@abrc.ro.\nNoutati si informatii suplimentare despre Eveniment pot fi regasite pe site-ul dedicat\, www.bucharest-marathon.com . Informatii despre Organizator si alte evenimente organizate gasiti pe: www.abrc.ro\, www.voluntarinsport.ro\, https://www.facebook.com/BucharestMarathon\nPrin completarea formularului pus la dispozitie de catre Organizator\, prin participarea la Eveniment si la oricare dintre cursele asociate va exprimati acordul explicit si neconditionat de a respecta termenii prezentului Regulament si orice instructiuni/recomandari ale Organizatorului si ale Oficialilor Evenimentului. Organizatorul isi rezerva dreptul de a modifica prezentul Regulament pana in prima zi a Evenimentului\, cu conditia informarii participantilor pe site-ul Evenimentului. Prezentul Regulament se completeaza pentru toate cursele (atat cele la care participa sportivii legitimati si sportivii de elita\, cursele necompetitive) cu regulamentele Asociatiei Internationale a Federatiilor de Atletism (IAAF)\, si cu cele ale Tribunalului Disciplinar al IAAF (IAAF Disciplinary Tribunal Rules) in masura in care acestea nu contravin prevederilor acestui Regulament.\nOri de cate ori regulile speciale mentionate mai sus nu se pot aplica\, se va aplica Legea Romana.\nCurse organizate:\n– curse pentru adulti: maraton\, semimaraton\, individual 10k\, stafeta 10k +10k + 10k + 12.2 k si Fun Race 2.5km\nTemperatura medie a sezonului:\n– Temperatura minima: 10 C°\n– Temperatura maxima: 20 C°\n– Temperatura probabila: 18 C° \nPROGRAM EVENIMENT RAIFFEISEN BANK BUCHAREST MARATHON 2025\nJoi – 9 Octombrie 2025\n16:00 – 20:00 – Ridicare kituri 42km\, Stafeta\, 21km\, 10km\, Fun Race 2.5km\n16:00 – 20:00 – Inscrieri noi doar la cursele disponibile \nVineri – 10 Octombrie 2025\n16:00 – 20:00 – Ridicare kituri 42km\, Stafeta\, 21km\, 10km\, Fun Race 2.5km\n16:00 – 20:00 – Inscrieri noi doar la cursele disponibile \nSâmbătă – 11 Octombrie 2025\n13:00 – 17:00 – Ridicare kituri 42km\, 21km si stafeta\n7:30 – 08:30 – Ridicare kituri pentru pentru cursa 10 km individual\n8:25 – 08:40 – Incalzire cu echipa World Class Vodafone 10K\n08:45 – START Wheelchairs 10km\n09:00 – START 10 KM Individual\n10:00 – Festivitate premiere barbati Vodafone 10K\n10:05 – Festivitate premiere femei Vodafone 10K\n10:10 – Festivitate premiere Wheelchairs Vodafone 10K\n10:15 – Festivitate premiere Handbikes Vodafone 10K\n10:20-10:40 – Stretching cu echipa World Class Vodafone 10k\n9:30 – 11:30 – Ridicare kituri pentru pentru cursa 2.5 km individual\n11:25 – 11:40 – Incalzire cu echipa World Class – EY Fun Race 2.5km\n11:45 – START Wheelchairs Fun Race 2.5km\n12:00 – START Fun Race 2.5km\n12:30 – Extragere castigatori barbati EY Fun Race\n12:40 – Extragere castigatori femei EY Fun Race\n12:50 – Festivitate premiere Wheelchairs EY Fun Race\n12:55 – Festivitate premiere Handbikes EY Fun Race\n13:00 – 13:20 – Stretching cu echipa World Class EY Fun Race 2.5km \nDuminică – 12 Octombrie 2025\n07:30 – 08:30 – Ridicare kituri 42km\,21km si stafeta (doar pentru alergatorii ce ajung in ziua cursei in Bucuresti si fac dovada)\n08:20 – 08:40 – Incalzire cu echipa World Class\n09:00 – START Cursa 42km\, Stafeta si 21km\n11:50 – Festivitate premiere Cursa 21km Autonom barbati\n11:55 – Festivitate premiere Cursa 21km Autonom femei\n12:00 – 12:15 – Sesiune stretching cu echipa World Class – cursa 21km Autonom\n12:30 – Festivitate premiere Cursa 42km Raiffeisen Bank barbati;\n12:40 – Festivitate premiere Cursa 42km Raiffeisen Bank femei;\n13:00 – Festivitate premiere Stafeta EON; clasament general \n*Premierea pe categorii de varsta la cursa de 42km se va face in zona de sport expo\, la cortul de info point. \n15:00 – Final Raiffesein Bank Bucharest Marathon
URL:https://sportcafe.ro/eveniment/raiffeisen-bank-bucharest-marathon-2025/
LOCATION:București
CATEGORIES:ATLETISM,SPORT
ATTACH;FMTTYPE=image/jpeg:https://sportcafe.ro/wp-content/uploads/2025/10/maraton.jpg
END:VEVENT
END:VCALENDAR