BEGIN:VCALENDAR
VERSION:2.0
PRODID:-//sportcafe.ro - ECPv6.15.11//NONSGML v1.0//EN
CALSCALE:GREGORIAN
METHOD:PUBLISH
X-ORIGINAL-URL:https://sportcafe.ro
X-WR-CALDESC:Evenimente pentru sportcafe.ro
REFRESH-INTERVAL;VALUE=DURATION:PT1H
X-Robots-Tag:noindex
X-PUBLISHED-TTL:PT1H
BEGIN:VTIMEZONE
TZID:Europe/Bucharest
BEGIN:DAYLIGHT
TZOFFSETFROM:+0200
TZOFFSETTO:+0300
TZNAME:EEST
DTSTART:20240331T010000
END:DAYLIGHT
BEGIN:STANDARD
TZOFFSETFROM:+0300
TZOFFSETTO:+0200
TZNAME:EET
DTSTART:20241027T010000
END:STANDARD
BEGIN:DAYLIGHT
TZOFFSETFROM:+0200
TZOFFSETTO:+0300
TZNAME:EEST
DTSTART:20250330T010000
END:DAYLIGHT
BEGIN:STANDARD
TZOFFSETFROM:+0300
TZOFFSETTO:+0200
TZNAME:EET
DTSTART:20251026T010000
END:STANDARD
BEGIN:DAYLIGHT
TZOFFSETFROM:+0200
TZOFFSETTO:+0300
TZNAME:EEST
DTSTART:20260329T010000
END:DAYLIGHT
BEGIN:STANDARD
TZOFFSETFROM:+0300
TZOFFSETTO:+0200
TZNAME:EET
DTSTART:20261025T010000
END:STANDARD
END:VTIMEZONE
BEGIN:VEVENT
DTSTART;TZID=Europe/Bucharest:20251005T170000
DTEND;TZID=Europe/Bucharest:20251005T170000
DTSTAMP:20260420T131910
CREATED:20250929T232337Z
LAST-MODIFIED:20251003T192622Z
UID:668-1759683600-1759683600@sportcafe.ro
SUMMARY:HANDBAL - LIGA CAMPIONILOR (F): CSM București - Podravka
DESCRIPTION:Meci din Liga Campionilor la handbal feminin. „Tigroaicele” întâlnesc pe Podravka Koprivnica\, în etapa a patra din Grupa B. CSM București are o victorie și două înfrângeri după primele trei runde și ocupă locul 5\, cu două puncte. Meciul CSM București – Podravka e programat duminică\, 5 octombrie 2025\, de la ora 17:00\, la Sala Polivalentă Dinamo din Capitală. \nBILETE AICI
URL:https://sportcafe.ro/eveniment/handbal-liga-campionilor-f-csm-bucuresti-podravka-koprivnica/
LOCATION:Sala Polivalentă „Dinamo”\, Șoseaua Ștefan cel Mare\, Nr. 7-9\, București\, Sector 2\, 020121\, Romania
CATEGORIES:HANDBAL,SPORT
ATTACH;FMTTYPE=image/jpeg:https://sportcafe.ro/wp-content/uploads/2025/09/csmbucuresti.jpg
END:VEVENT
END:VCALENDAR