BEGIN:VCALENDAR
VERSION:2.0
PRODID:-//sportcafe.ro - ECPv6.15.11//NONSGML v1.0//EN
CALSCALE:GREGORIAN
METHOD:PUBLISH
X-WR-CALNAME:sportcafe.ro
X-ORIGINAL-URL:https://sportcafe.ro
X-WR-CALDESC:Evenimente pentru sportcafe.ro
REFRESH-INTERVAL;VALUE=DURATION:PT1H
X-Robots-Tag:noindex
X-PUBLISHED-TTL:PT1H
BEGIN:VTIMEZONE
TZID:Europe/Bucharest
BEGIN:DAYLIGHT
TZOFFSETFROM:+0200
TZOFFSETTO:+0300
TZNAME:EEST
DTSTART:20250330T010000
END:DAYLIGHT
BEGIN:STANDARD
TZOFFSETFROM:+0300
TZOFFSETTO:+0200
TZNAME:EET
DTSTART:20251026T010000
END:STANDARD
BEGIN:DAYLIGHT
TZOFFSETFROM:+0200
TZOFFSETTO:+0300
TZNAME:EEST
DTSTART:20260329T010000
END:DAYLIGHT
BEGIN:STANDARD
TZOFFSETFROM:+0300
TZOFFSETTO:+0200
TZNAME:EET
DTSTART:20261025T010000
END:STANDARD
BEGIN:DAYLIGHT
TZOFFSETFROM:+0200
TZOFFSETTO:+0300
TZNAME:EEST
DTSTART:20270328T010000
END:DAYLIGHT
BEGIN:STANDARD
TZOFFSETFROM:+0300
TZOFFSETTO:+0200
TZNAME:EET
DTSTART:20271031T010000
END:STANDARD
END:VTIMEZONE
BEGIN:VEVENT
DTSTART;TZID=Europe/Bucharest:20260205T193000
DTEND;TZID=Europe/Bucharest:20260205T193000
DTSTAMP:20260420T072322
CREATED:20260128T131022Z
LAST-MODIFIED:20260128T131100Z
UID:4108-1770319800-1770319800@sportcafe.ro
SUMMARY:TEATRU | TEATRUL ROȘU: Între două nu te plouă
DESCRIPTION:Cum ar fi să ai amantă și să nu știi? Cum ar fi ca o femeie oarecare să îți convingă soția că o înșeli cu ea? Tu știi că ești nevinovat și că te tragi din neam de fideli\, dar ascunzi un secret. Hai la o comedie fresh despre încurcături și relații\, în care socoteala de acasă nu se potrivește cu cea de pe banca din parc. \nRegia este semnată de Radu Gabriel. Cu Oleg Apostol\, Maria Radu\, Bucur Luminița. Text Maria Radu. \nRecomandat: 11+ \nBILETE AICI
URL:https://sportcafe.ro/eveniment/teatru-teatrul-rosu-intre-doua-nu-te-ploua-3/
LOCATION:The Hub\, Strada Bărăției 31\, București\, 030167
CATEGORIES:TEATRU
ATTACH;FMTTYPE=image/jpeg:https://sportcafe.ro/wp-content/uploads/2026/01/eveniment-teatru-landscape.jpg
END:VEVENT
END:VCALENDAR