BEGIN:VCALENDAR
VERSION:2.0
PRODID:-//sportcafe.ro - ECPv6.15.11//NONSGML v1.0//EN
CALSCALE:GREGORIAN
METHOD:PUBLISH
X-WR-CALNAME:sportcafe.ro
X-ORIGINAL-URL:https://sportcafe.ro
X-WR-CALDESC:Evenimente pentru sportcafe.ro
REFRESH-INTERVAL;VALUE=DURATION:PT1H
X-Robots-Tag:noindex
X-PUBLISHED-TTL:PT1H
BEGIN:VTIMEZONE
TZID:Europe/Bucharest
BEGIN:DAYLIGHT
TZOFFSETFROM:+0200
TZOFFSETTO:+0300
TZNAME:EEST
DTSTART:20250330T010000
END:DAYLIGHT
BEGIN:STANDARD
TZOFFSETFROM:+0300
TZOFFSETTO:+0200
TZNAME:EET
DTSTART:20251026T010000
END:STANDARD
BEGIN:DAYLIGHT
TZOFFSETFROM:+0200
TZOFFSETTO:+0300
TZNAME:EEST
DTSTART:20260329T010000
END:DAYLIGHT
BEGIN:STANDARD
TZOFFSETFROM:+0300
TZOFFSETTO:+0200
TZNAME:EET
DTSTART:20261025T010000
END:STANDARD
BEGIN:DAYLIGHT
TZOFFSETFROM:+0200
TZOFFSETTO:+0300
TZNAME:EEST
DTSTART:20270328T010000
END:DAYLIGHT
BEGIN:STANDARD
TZOFFSETFROM:+0300
TZOFFSETTO:+0200
TZNAME:EET
DTSTART:20271031T010000
END:STANDARD
END:VTIMEZONE
BEGIN:VEVENT
DTSTART;TZID=Europe/Bucharest:20260207T163000
DTEND;TZID=Europe/Bucharest:20260207T163000
DTSTAMP:20260420T071713
CREATED:20260128T131746Z
LAST-MODIFIED:20260128T131753Z
UID:4121-1770481800-1770481800@sportcafe.ro
SUMMARY:TEATRU | TEATRUL ROȘU: Bărbatul perfect defect
DESCRIPTION:Noi\, femeile\, căutăm cu înverșunare bărbatul ideal. Am aflat de la mama\, de la bunica\, de la radio\, de la tv că bărbatul trebuie să fie cât de cât perfect. Atât cât să țină loc de iubit\, soț\, amant\, prieten\, psiholog\, asistent\, șofer\, doctor\, instalator\, mecanic\, consilier etc. Dar unde se găsește bărbatul perfectul? Este foarte simplu: este prezent pe toate drumurile\, îți taie efectiv calea și respirația. Trebuie doar să te îndrăgostești ca să-l recunoști și gata… este perfect. Dar ce faci cu el apoi? Hai la teatru\, ca să afli rețeta de la Mariana și Liliana\, puse față-n față cu realitatea – adică Mugur Mugurel. \nÎndrăgitul Radu Gabriel semnează regia. Cu Maria Radu\, Luminița Bucur și Oleg Apostol. \nRecomandat: 11+ \nBILETE AICI
URL:https://sportcafe.ro/eveniment/teatru-teatrul-rosu-barbatul-perfect-defect-4/
LOCATION:The Hub\, Strada Bărăției 31\, București\, 030167
CATEGORIES:TEATRU
ATTACH;FMTTYPE=image/jpeg:https://sportcafe.ro/wp-content/uploads/2026/01/eveniment-teatru-landscape.jpg
END:VEVENT
BEGIN:VEVENT
DTSTART;TZID=Europe/Bucharest:20260207T193000
DTEND;TZID=Europe/Bucharest:20260207T193000
DTSTAMP:20260420T071713
CREATED:20260128T132133Z
LAST-MODIFIED:20260128T132140Z
UID:4125-1770492600-1770492600@sportcafe.ro
SUMMARY:TEATRU | TEATRUL ROȘU: Un gigolo de doi lei
DESCRIPTION:O comedie demențială despre o femeie care bea de fericire\, o altă femeie care bea de supărare și un bărbat care bea de nervi…toată apa din casă! Totul condimentat cu multe confuzii și presărat cu tot felul de aluzii (mai mult sau mai puțin erotice)! Dar cine este oare fiecare dintre ei\, ce anume vor ele de la el și mai ales ce vrea el de la ele? E o poveste de râsul lumii! E o aventură cap coadă! E o altă super comedie cu schepsis\, cu umor\, cu Luminița Bucur\, Oleg Apostol si Maria Radu (recunoscuți pentru Terapie în trei\, Bărbatul perfect defect\, Între două nu te plouă și Nițel prea infidel). \nRegia Radu Gabriel. Text Maria Radu. \nRecomandat: 12+ \nBILETE AICI
URL:https://sportcafe.ro/eveniment/teatru-teatrul-rosu-un-gigolo-de-doi-lei/
LOCATION:The Hub\, Strada Bărăției 31\, București\, 030167
CATEGORIES:TEATRU
ATTACH;FMTTYPE=image/jpeg:https://sportcafe.ro/wp-content/uploads/2026/01/eveniment-teatru-landscape.jpg
END:VEVENT
END:VCALENDAR