BEGIN:VCALENDAR
VERSION:2.0
PRODID:-//sportcafe.ro - ECPv6.15.11//NONSGML v1.0//EN
CALSCALE:GREGORIAN
METHOD:PUBLISH
X-WR-CALNAME:sportcafe.ro
X-ORIGINAL-URL:https://sportcafe.ro
X-WR-CALDESC:Evenimente pentru sportcafe.ro
REFRESH-INTERVAL;VALUE=DURATION:PT1H
X-Robots-Tag:noindex
X-PUBLISHED-TTL:PT1H
BEGIN:VTIMEZONE
TZID:Europe/Bucharest
BEGIN:DAYLIGHT
TZOFFSETFROM:+0200
TZOFFSETTO:+0300
TZNAME:EEST
DTSTART:20240331T010000
END:DAYLIGHT
BEGIN:STANDARD
TZOFFSETFROM:+0300
TZOFFSETTO:+0200
TZNAME:EET
DTSTART:20241027T010000
END:STANDARD
BEGIN:DAYLIGHT
TZOFFSETFROM:+0200
TZOFFSETTO:+0300
TZNAME:EEST
DTSTART:20250330T010000
END:DAYLIGHT
BEGIN:STANDARD
TZOFFSETFROM:+0300
TZOFFSETTO:+0200
TZNAME:EET
DTSTART:20251026T010000
END:STANDARD
BEGIN:DAYLIGHT
TZOFFSETFROM:+0200
TZOFFSETTO:+0300
TZNAME:EEST
DTSTART:20260329T010000
END:DAYLIGHT
BEGIN:STANDARD
TZOFFSETFROM:+0300
TZOFFSETTO:+0200
TZNAME:EET
DTSTART:20261025T010000
END:STANDARD
END:VTIMEZONE
BEGIN:VEVENT
DTSTART;TZID=Europe/Bucharest:20251012T130000
DTEND;TZID=Europe/Bucharest:20251012T130000
DTSTAMP:20260420T162420
CREATED:20251012T005152Z
LAST-MODIFIED:20251012T005214Z
UID:1908-1760274000-1760274000@sportcafe.ro
SUMMARY:HANDBAL - Divizia A\, Feminin\, Seria A: ACS Spartac București - CSU Neptun Constanța
DESCRIPTION:Meci din etapa a 4-a a Diviziei A de handbal feminin\, Seria A. ACS Spartac București – CSU Neptun Constanța se dispută duminică\, 12 octombrie 2025\, de la ora 13:00\, la Sala Apollo.
URL:https://sportcafe.ro/eveniment/handbal-divizia-a-feminin-seria-a-acs-spartac-bucuresti-csu-neptun-constanta/
LOCATION:Centrul Sportiv Apollo\, Bulevardul Energeticienilor 5\, București\, Romania
CATEGORIES:HANDBAL,SPORT
ATTACH;FMTTYPE=image/png:https://sportcafe.ro/wp-content/uploads/2025/10/handbal02.png
END:VEVENT
END:VCALENDAR