BEGIN:VCALENDAR
VERSION:2.0
PRODID:-//sportcafe.ro - ECPv6.15.11//NONSGML v1.0//EN
CALSCALE:GREGORIAN
METHOD:PUBLISH
X-WR-CALNAME:sportcafe.ro
X-ORIGINAL-URL:https://sportcafe.ro
X-WR-CALDESC:Evenimente pentru sportcafe.ro
REFRESH-INTERVAL;VALUE=DURATION:PT1H
X-Robots-Tag:noindex
X-PUBLISHED-TTL:PT1H
BEGIN:VTIMEZONE
TZID:Europe/Bucharest
BEGIN:DAYLIGHT
TZOFFSETFROM:+0200
TZOFFSETTO:+0300
TZNAME:EEST
DTSTART:20240331T010000
END:DAYLIGHT
BEGIN:STANDARD
TZOFFSETFROM:+0300
TZOFFSETTO:+0200
TZNAME:EET
DTSTART:20241027T010000
END:STANDARD
BEGIN:DAYLIGHT
TZOFFSETFROM:+0200
TZOFFSETTO:+0300
TZNAME:EEST
DTSTART:20250330T010000
END:DAYLIGHT
BEGIN:STANDARD
TZOFFSETFROM:+0300
TZOFFSETTO:+0200
TZNAME:EET
DTSTART:20251026T010000
END:STANDARD
BEGIN:DAYLIGHT
TZOFFSETFROM:+0200
TZOFFSETTO:+0300
TZNAME:EEST
DTSTART:20260329T010000
END:DAYLIGHT
BEGIN:STANDARD
TZOFFSETFROM:+0300
TZOFFSETTO:+0200
TZNAME:EET
DTSTART:20261025T010000
END:STANDARD
BEGIN:DAYLIGHT
TZOFFSETFROM:+0200
TZOFFSETTO:+0300
TZNAME:EEST
DTSTART:20270328T010000
END:DAYLIGHT
BEGIN:STANDARD
TZOFFSETFROM:+0300
TZOFFSETTO:+0200
TZNAME:EET
DTSTART:20271031T010000
END:STANDARD
END:VTIMEZONE
BEGIN:VEVENT
DTSTART;TZID=Europe/Bucharest:20260212T193000
DTEND;TZID=Europe/Bucharest:20260212T193000
DTSTAMP:20260420T002124
CREATED:20260128T135109Z
LAST-MODIFIED:20260128T165913Z
UID:4143-1770924600-1770924600@sportcafe.ro
SUMMARY:TEATRU | TEATRUL ROȘU: Super comedia „Scandalagiii”
DESCRIPTION:„Scandalagiii” – un spectacol care dezvăluie publicului ce se întâmplă în culise\, atunci când se trage cortina. \nCu toții iubim lumea teatrului! Pentru actori\, e un mod de viață\, o pasiune! Dar când pasiunea se întâlnește cu lumea reală\, lucrurile degenerează în… comedie! Intrigi\, iubiri\, gelozii\, amenințări\, nebunie și artă – toate se amestecă printre cei cinci actori obligați de meserie să se suporte\, coordonați de un regizor dependent de artă și … calmante!\nDoi tineri căsătoriți merg într-o călătorie la casa de vacanță pentru a se bucura de o noapte romantică… fiecare cu alt partener. Întâlnirea personajelor este una explozivă sau cel puțin așa ar trebui să iasă conform scenariului\, dacă actorii care interpretează rolurile nu își aduc problemele din viața reală pe scenă\, în fața publicului spectator.\nUn regizor panicat\, aflat în buza premierei\, conștientizând că lucrează cu o mână de oameni haotici\, interesați de orice altceva\, mai puțin de piesa pe care o repetă. Cinci actori\, extrem de diferiți și cu probleme din cele mai diverse\, care uită să mai intre în lumea de poveste a teatrului și aduc secretele profesiei în lumea reală.\nUn spectacol în care pot fi urmăriți\, interpretând fiecare mai mult decât un rol\, actorii Pavel Bârsan\, Livia Taloi\, Adelina Mihalcea\, Azaleea Necula\, Alin Brancu si Andrei Necula\, în regia lui Alin Brancu (cunoscuți și pentru spectacolele „Divorț în ziua nunții”\, „Fanteziile soțului meu”\, „Iubire dublu distilată”\, „Cealaltă femeie” sau „Burlac la 40 de ani”).\nRecomandat: 12+ \nBILETE AICI
URL:https://sportcafe.ro/eveniment/teatru-teatrul-rosu-super-comedia-scandalagiii/
LOCATION:The Hub\, Strada Bărăției 31\, București\, 030167
CATEGORIES:TEATRU
ATTACH;FMTTYPE=image/jpeg:https://sportcafe.ro/wp-content/uploads/2026/01/eveniment-teatru-landscape.jpg
END:VEVENT
BEGIN:VEVENT
DTSTART;TZID=Europe/Bucharest:20251012T193000
DTEND;TZID=Europe/Bucharest:20251012T193000
DTSTAMP:20260420T002124
CREATED:20251006T105101Z
LAST-MODIFIED:20251006T110230Z
UID:1439-1760297400-1760297400@sportcafe.ro
SUMMARY:TEATRU | TEATRUL ROȘU | Femei bune pentru bărbați nebuni
DESCRIPTION:Leo și Amalia\, un cuplu „modern” (în care soția face toți banii)\, pleacă în vacanță la mare pentru a sărbători 5 ani de mariaj. Fericitul eveniment din viața lor este curând perturbat de apariția lui Eusebiu\, fostul soț\, un urmăritor veritabil\, obsedat și foarte determinat să o recucerească. Ca să fie mai stânjenitor\, intră în scenă și Lili\, amica lui Leo\, cuminte și discretă până la primul pahar. Și ca lucrurile să se complice cu adevărat\, se adaugă alcool\, iar cele 4 personaje ajung în situații de tot râsul în incinta hotelului Meduza. \nO comedie cu Livia Taloi\, Adelina Mihalcea\, Alin Brancu și Pavel Bârsan. \nRecomandat: 14+ \nBILETE AICI
URL:https://sportcafe.ro/eveniment/1439/
LOCATION:The Hub\, Strada Bărăției 31\, București\, 030167
CATEGORIES:TEATRU
ATTACH;FMTTYPE=image/jpeg:https://sportcafe.ro/wp-content/uploads/2025/10/teatrulrosu.jpg
END:VEVENT
BEGIN:VEVENT
DTSTART;TZID=Europe/Bucharest:20251010T193000
DTEND;TZID=Europe/Bucharest:20251010T193000
DTSTAMP:20260420T002124
CREATED:20251006T103405Z
LAST-MODIFIED:20251006T103412Z
UID:1421-1760124600-1760124600@sportcafe.ro
SUMMARY:TEATRU | TEATRUL ROȘU | Divorț în ziua nunții
DESCRIPTION:O comedie în premieră națională\, direct de pe Broadway. E timpul să spunem prezenți la cea mai importantă zi din viața a doi tineri\, care au decis să își unească destinele\, doar că\, neașteptat\, ies la iveală secretele aventurilor amoroase\, iar nunta se transformă în divorț. \nRegia: Cătălin Stelian. Distribuția: Azaleea Necula\, Emanuel Bighe\, Alin Brancu\, Adelina Mihalcea\, Livia Taloi. Scenografia: Bogdan Gagu. \nRecomandat: 10+ \nBILETE AICI
URL:https://sportcafe.ro/eveniment/teatru-teatrul-rosu-divort-in-ziua-nuntii/
LOCATION:The Hub\, Strada Bărăției 31\, București\, 030167
ATTACH;FMTTYPE=image/jpeg:https://sportcafe.ro/wp-content/uploads/2025/10/teatrul-rosu.jpg
END:VEVENT
END:VCALENDAR