BEGIN:VCALENDAR
VERSION:2.0
PRODID:-//sportcafe.ro - ECPv6.15.11//NONSGML v1.0//EN
CALSCALE:GREGORIAN
METHOD:PUBLISH
X-WR-CALNAME:sportcafe.ro
X-ORIGINAL-URL:https://sportcafe.ro
X-WR-CALDESC:Evenimente pentru sportcafe.ro
REFRESH-INTERVAL;VALUE=DURATION:PT1H
X-Robots-Tag:noindex
X-PUBLISHED-TTL:PT1H
BEGIN:VTIMEZONE
TZID:Europe/Bucharest
BEGIN:DAYLIGHT
TZOFFSETFROM:+0200
TZOFFSETTO:+0300
TZNAME:EEST
DTSTART:20240331T010000
END:DAYLIGHT
BEGIN:STANDARD
TZOFFSETFROM:+0300
TZOFFSETTO:+0200
TZNAME:EET
DTSTART:20241027T010000
END:STANDARD
BEGIN:DAYLIGHT
TZOFFSETFROM:+0200
TZOFFSETTO:+0300
TZNAME:EEST
DTSTART:20250330T010000
END:DAYLIGHT
BEGIN:STANDARD
TZOFFSETFROM:+0300
TZOFFSETTO:+0200
TZNAME:EET
DTSTART:20251026T010000
END:STANDARD
BEGIN:DAYLIGHT
TZOFFSETFROM:+0200
TZOFFSETTO:+0300
TZNAME:EEST
DTSTART:20260329T010000
END:DAYLIGHT
BEGIN:STANDARD
TZOFFSETFROM:+0300
TZOFFSETTO:+0200
TZNAME:EET
DTSTART:20261025T010000
END:STANDARD
END:VTIMEZONE
BEGIN:VEVENT
DTSTART;TZID=Europe/Bucharest:20251025T170000
DTEND;TZID=Europe/Bucharest:20251025T170000
DTSTAMP:20260420T171148
CREATED:20251015T120603Z
LAST-MODIFIED:20251015T120610Z
UID:2161-1761411600-1761411600@sportcafe.ro
SUMMARY:TEATRU | TEATRUL ROȘU | Gunoierul
DESCRIPTION:Spune-mi ce arunci la gunoi ca să îți spun cine ești – proverb nou. \nLa finalul unei zile obositoare\, Domnul mai are o sarcină de îndeplinit: să arunce gunoiul la tomberon. Acolo\, are parte de o întâlnire surprinzătoare cu un… cititor în gunoaie. Metodic precum un detectiv\, Gunoierul îi analizează resturile și îi dezvăluie lucruri de care el nu are habar și care au legătură cu viața lui\, dar și cu cea a vecinilor. Căci nu o să îți vină să crezi câte poți afla\, aruncând un ochi în sacul cu gunoi al cuiva. Ușor\, ușor\, Domnul o ia razna și este cuprins de paranoia\, realizând că Gunoierul ar putea avea dreptate. Ce enigme ajung cei doi să rezolve și ce consecințe apar veți afla vizionând spectacolul „Gunoierul” – o comedie spumoasă\, care va trezi atât râsul\, cât și investigatorul din tine. \nCu Daniel Hara\, Pavel Bârsan\, Maria Magdalena Chihaia sau Camelia Călușer. Text: Cornel Mimi Brănescu. \nRecomandat: 16+ \nBILETE AICI
URL:https://sportcafe.ro/eveniment/teatru-teatrul-rosu-gunoierul/
LOCATION:The Hub\, Strada Bărăției 31\, București\, 030167
CATEGORIES:TEATRU
ATTACH;FMTTYPE=image/jpeg:https://sportcafe.ro/wp-content/uploads/2025/10/teatrul-rosu.jpg
END:VEVENT
BEGIN:VEVENT
DTSTART;TZID=Europe/Bucharest:20251024T193000
DTEND;TZID=Europe/Bucharest:20251024T193000
DTSTAMP:20260420T171148
CREATED:20251015T120237Z
LAST-MODIFIED:20251015T120244Z
UID:2156-1761334200-1761334200@sportcafe.ro
SUMMARY:TEATRU | TEATRUL ROȘU | Furtul secolului
DESCRIPTION:În mijlocul unui parc liniștit\, Nelu vrea doar să se relaxeze pe o bancă. Dar apariția lui Paul\, un vânzător de ziare plin de energie\, declanșează o serie de evenimente nebunești. Când Nelu primește o scrisoare de la soția sa dispărută\, Mimi\, și află că un obiect valoros trebuie recuperat\, aventura începe! \nÎmpreună cu hărțile desenate pe loc și o gașcă de personaje excentrice\, cei doi pornesc într-o comedie haioasă plină de surprize. Cine este cu adevărat Paul? Ce va întâmpla cu obiectul valoros și cu viața lui Nelu și Mimi? Veți râde și veți rămâne cu sufletul la gură în ‘FURTUL SECOLULUI’. Haideți să descoperiți cea mai amuzantă aventură a anului! \nRegia Daniel Hara. Cu Daniel Hara\, Dorin Enache/Alexandru Tudor Sabău și Diana Sar/Camelia Călușer. \nRECOMANDAT: AUDIENȚĂ GENERALĂ \nBILETE AICI
URL:https://sportcafe.ro/eveniment/teatru-teatrul-rosu-furtul-secolului/
LOCATION:The Hub\, Strada Bărăției 31\, București\, 030167
CATEGORIES:TEATRU
ATTACH;FMTTYPE=image/jpeg:https://sportcafe.ro/wp-content/uploads/2025/10/teatrul-rosu.jpg
END:VEVENT
END:VCALENDAR