BEGIN:VCALENDAR
VERSION:2.0
PRODID:-//sportcafe.ro - ECPv6.15.11//NONSGML v1.0//EN
CALSCALE:GREGORIAN
METHOD:PUBLISH
X-WR-CALNAME:sportcafe.ro
X-ORIGINAL-URL:https://sportcafe.ro
X-WR-CALDESC:Evenimente pentru sportcafe.ro
REFRESH-INTERVAL;VALUE=DURATION:PT1H
X-Robots-Tag:noindex
X-PUBLISHED-TTL:PT1H
BEGIN:VTIMEZONE
TZID:Europe/Bucharest
BEGIN:DAYLIGHT
TZOFFSETFROM:+0200
TZOFFSETTO:+0300
TZNAME:EEST
DTSTART:20240331T010000
END:DAYLIGHT
BEGIN:STANDARD
TZOFFSETFROM:+0300
TZOFFSETTO:+0200
TZNAME:EET
DTSTART:20241027T010000
END:STANDARD
BEGIN:DAYLIGHT
TZOFFSETFROM:+0200
TZOFFSETTO:+0300
TZNAME:EEST
DTSTART:20250330T010000
END:DAYLIGHT
BEGIN:STANDARD
TZOFFSETFROM:+0300
TZOFFSETTO:+0200
TZNAME:EET
DTSTART:20251026T010000
END:STANDARD
BEGIN:DAYLIGHT
TZOFFSETFROM:+0200
TZOFFSETTO:+0300
TZNAME:EEST
DTSTART:20260329T010000
END:DAYLIGHT
BEGIN:STANDARD
TZOFFSETFROM:+0300
TZOFFSETTO:+0200
TZNAME:EET
DTSTART:20261025T010000
END:STANDARD
BEGIN:DAYLIGHT
TZOFFSETFROM:+0200
TZOFFSETTO:+0300
TZNAME:EEST
DTSTART:20270328T010000
END:DAYLIGHT
BEGIN:STANDARD
TZOFFSETFROM:+0300
TZOFFSETTO:+0200
TZNAME:EET
DTSTART:20271031T010000
END:STANDARD
END:VTIMEZONE
BEGIN:VEVENT
DTSTART;TZID=Europe/Bucharest:20260219T194500
DTEND;TZID=Europe/Bucharest:20260219T194500
DTSTAMP:20260422T112733
CREATED:20260118T201946Z
LAST-MODIFIED:20260118T202249Z
UID:4019-1771530300-1771530300@sportcafe.ro
SUMMARY:HANDBAL - LIGA CAMPIONILOR: DINAMO BUCUREȘTI - FUCHSE BERLIN
DESCRIPTION:Meci din grupele Ligii Campionilor la handbal masculin. Dinamo București – Fuchse Berlin se dispută joi\, 19 februarie 2026\, de la ora 19:45\, în Sala Polivalentă din Capitală. \nBILETE AICI
URL:https://sportcafe.ro/eveniment/handbal-liga-campionilor-dinamo-bucuresti-fuchse-berlin/
LOCATION:Sala Polivalentă\, București\, Romania
CATEGORIES:HANDBAL,SPORT
ATTACH;FMTTYPE=image/jpeg:https://sportcafe.ro/wp-content/uploads/2025/09/CS-DINAMO-BUCURESTI-HC-EUROFARM-PELISTER-EHF-CHAMPIONS-LEAGUE-26.09.2024-.jpg
END:VEVENT
BEGIN:VEVENT
DTSTART;TZID=Europe/Bucharest:20251214T174500
DTEND;TZID=Europe/Bucharest:20251214T174500
DTSTAMP:20260422T112733
CREATED:20251213T234658Z
LAST-MODIFIED:20251213T234932Z
UID:3497-1765734300-1765734300@sportcafe.ro
SUMMARY:FOTBAL - SUPERLIGA\, ETAPA 20: Dinamo - Metaloglobus
DESCRIPTION:Meci din etapa a 20-a din SuperLiga. Dinamo – Metaloglobus se dispută duminică\, 14 decembrie 2025\, de la ora 17:45\, pe Arena Națională. \nBILETE AICI
URL:https://sportcafe.ro/eveniment/fotbal-superliga-etapa-20-dinamo-bucuresti-metaloglobus/
LOCATION:Arena Națională\, Bulevardul Basarabia 37-39\, Romania
CATEGORIES:FOTBAL,SPORT
ATTACH;FMTTYPE=image/jpeg:https://sportcafe.ro/wp-content/uploads/2025/10/revista-presei-dinamo.jpg
END:VEVENT
BEGIN:VEVENT
DTSTART;TZID=Europe/Bucharest:20251028T190000
DTEND;TZID=Europe/Bucharest:20251028T190000
DTSTAMP:20260422T112733
CREATED:20251027T113251Z
LAST-MODIFIED:20251027T113258Z
UID:2372-1761678000-1761678000@sportcafe.ro
SUMMARY:VOLEI - CEV CHAMPIONS LEAGUE: Dinamo - Strumica
DESCRIPTION:VOLEI MASCULIN. Marți\, zi de Champions League în sala Dinamo ⬜️🟥\nTrupa din Ștefan cel Mare se pregătește de returul cu VC Strumica. Conducem la general cu 3-0 după victoria superbă de la Skopje\, iar marți\, 28 octombrie de la ora 19:00\, ne dorim să obținem calificarea în turul 2 alături de voi 🫡 \nBILETE AICI
URL:https://sportcafe.ro/eveniment/volei-cev-champions-league-dinamo-strumica/
LOCATION:Sala Polivalentă „Dinamo”\, Șoseaua Ștefan cel Mare\, Nr. 7-9\, București\, Sector 2\, 020121\, Romania
CATEGORIES:SPORT,VOLEI
ATTACH;FMTTYPE=image/jpeg:https://sportcafe.ro/wp-content/uploads/2025/10/volei.jpeg
END:VEVENT
BEGIN:VEVENT
DTSTART;TZID=Europe/Bucharest:20251023T194500
DTEND;TZID=Europe/Bucharest:20251023T194500
DTSTAMP:20260422T112733
CREATED:20251012T003216Z
LAST-MODIFIED:20251012T003224Z
UID:1893-1761248700-1761248700@sportcafe.ro
SUMMARY:HANDBAL - LIGA CAMPIONILOR: DINAMO - KIELCE
DESCRIPTION:Un nou meci pe teren propriu pentru Dinamo București în Liga Campionilor la handbal masculin. „Dulăii” nu au strâns deocamdată niciun punct în competiție și ocupă ultimul loc în grupă. Meciul Dinamo – Kielce este programat joi\, 23 octombrie 2025\, de la ora 19:45. \nBILETE AICI
URL:https://sportcafe.ro/eveniment/handbal-liga-campionilor-dinamo-kielce/
LOCATION:Sala Polivalentă „Dinamo”\, Șoseaua Ștefan cel Mare\, Nr. 7-9\, București\, Sector 2\, 020121\, Romania
CATEGORIES:HANDBAL,SPORT
ATTACH;FMTTYPE=image/jpeg:https://sportcafe.ro/wp-content/uploads/2025/09/CS-DINAMO-BUCURESTI-HC-EUROFARM-PELISTER-EHF-CHAMPIONS-LEAGUE-26.09.2024-.jpg
END:VEVENT
BEGIN:VEVENT
DTSTART;TZID=Europe/Bucharest:20251019T203000
DTEND;TZID=Europe/Bucharest:20251019T203000
DTSTAMP:20260422T112733
CREATED:20251009T114302Z
LAST-MODIFIED:20251009T114310Z
UID:1746-1760905800-1760905800@sportcafe.ro
SUMMARY:FOTBAL - SUPERLIGA: Dinamo - Rapid
DESCRIPTION:Mare derby în SuperLiga! Dinamo și Rapid se vor confrunta pe Arena Națională\, într-o încleștare a orgoliilor și ambițiilor. Meciul din etapa a 13-a a campionatului este programat duminică\, 19 octombrie 2025\, de la ora 20:30. \nBILETE AICI
URL:https://sportcafe.ro/eveniment/fotbal-superliga-dinamo-rapid/
LOCATION:Arena Națională\, Bulevardul Basarabia 37-39\, Romania
CATEGORIES:FOTBAL,SPORT
ATTACH;FMTTYPE=image/jpeg:https://sportcafe.ro/wp-content/uploads/2025/10/bilete-dinamo-bucuresti-fc-rapid-1923-crop.jpg
END:VEVENT
BEGIN:VEVENT
DTSTART;TZID=Europe/Bucharest:20251016T203000
DTEND;TZID=Europe/Bucharest:20251016T203000
DTSTAMP:20260422T112733
CREATED:20251015T103118Z
LAST-MODIFIED:20251015T103124Z
UID:2089-1760646600-1760646600@sportcafe.ro
SUMMARY:POLO - LEN EUROCUP: Dinamo - Szolnoki Dozsa Praktiker
DESCRIPTION:Poloiștii de la Dinamo București debutează joi\, 16 octombrie\, de la ora 20:30\, în LEN Eurocup. Partida cu formația maghiară Szolnoki Dozsa Praktiker\, din etapa 1 a Grupei B\, va avea loc la Bazinul Olimpic „Anatolie Grințescu”. \nBILETE AICI
URL:https://sportcafe.ro/eveniment/polo-len-eurocup-dinamo-szolnoki-dozsa-praktiker/
LOCATION:Bazinul Olimpic Anatolie Grintescu\, Șoseaua Ștefan cel Mare\, nr. 7-9\, București\, Romania
CATEGORIES:POLO,SPORT
ATTACH;FMTTYPE=image/jpeg:https://sportcafe.ro/wp-content/uploads/2025/10/polo.jpg
END:VEVENT
BEGIN:VEVENT
DTSTART;TZID=Europe/Bucharest:20251012T150000
DTEND;TZID=Europe/Bucharest:20251012T150000
DTSTAMP:20260422T112733
CREATED:20251012T002728Z
LAST-MODIFIED:20251012T002736Z
UID:1889-1760281200-1760281200@sportcafe.ro
SUMMARY:HANDBAL - LIGA ZIMBRILOR: DINAMIO - CSM BUCUREȘTI
DESCRIPTION:Meci din etapa a 6-a a Ligii Zimbrilor. Derby bucureștean în Sala Dinamo. „Dulăi” vs. „Tigri”. Meciul Dinamo – CSM București este programat duminică\, 12 octombrie 2025\, de la ora 15:00. \nBILETE AICI
URL:https://sportcafe.ro/eveniment/handbal-liga-zimbrilor-dinamio-csm-bucuresti/
LOCATION:Sala Polivalentă „Dinamo”\, Șoseaua Ștefan cel Mare\, Nr. 7-9\, București\, Sector 2\, 020121\, Romania
CATEGORIES:HANDBAL,SPORT
ATTACH;FMTTYPE=image/jpeg:https://sportcafe.ro/wp-content/uploads/2025/09/CS-DINAMO-BUCURESTI-HC-EUROFARM-PELISTER-EHF-CHAMPIONS-LEAGUE-26.09.2024-.jpg
END:VEVENT
END:VCALENDAR