BEGIN:VCALENDAR
VERSION:2.0
PRODID:-//sportcafe.ro - ECPv6.15.11//NONSGML v1.0//EN
CALSCALE:GREGORIAN
METHOD:PUBLISH
X-ORIGINAL-URL:https://sportcafe.ro
X-WR-CALDESC:Evenimente pentru sportcafe.ro
REFRESH-INTERVAL;VALUE=DURATION:PT1H
X-Robots-Tag:noindex
X-PUBLISHED-TTL:PT1H
BEGIN:VTIMEZONE
TZID:Europe/Bucharest
BEGIN:DAYLIGHT
TZOFFSETFROM:+0200
TZOFFSETTO:+0300
TZNAME:EEST
DTSTART:20240331T010000
END:DAYLIGHT
BEGIN:STANDARD
TZOFFSETFROM:+0300
TZOFFSETTO:+0200
TZNAME:EET
DTSTART:20241027T010000
END:STANDARD
BEGIN:DAYLIGHT
TZOFFSETFROM:+0200
TZOFFSETTO:+0300
TZNAME:EEST
DTSTART:20250330T010000
END:DAYLIGHT
BEGIN:STANDARD
TZOFFSETFROM:+0300
TZOFFSETTO:+0200
TZNAME:EET
DTSTART:20251026T010000
END:STANDARD
BEGIN:DAYLIGHT
TZOFFSETFROM:+0200
TZOFFSETTO:+0300
TZNAME:EEST
DTSTART:20260329T010000
END:DAYLIGHT
BEGIN:STANDARD
TZOFFSETFROM:+0300
TZOFFSETTO:+0200
TZNAME:EET
DTSTART:20261025T010000
END:STANDARD
END:VTIMEZONE
BEGIN:VEVENT
DTSTART;TZID=Europe/Bucharest:20251122T180000
DTEND;TZID=Europe/Bucharest:20251122T180000
DTSTAMP:20260422T142715
CREATED:20251120T231334Z
LAST-MODIFIED:20251120T231340Z
UID:2911-1763834400-1763834400@sportcafe.ro
SUMMARY:VOLEI - DIVIZIA A1\, MASCULIN: CSM București - CSU Știința Politehnica București
DESCRIPTION:Meci din etapa a 6-a a Diviziei A1 la volei masculin. CSM București – CSU Știința Politehnica București se joacă sâmbătă\, 22 noiembrie 2025\, de la ora 18:00\, la Sala Unirea\, din Dobroești.
URL:https://sportcafe.ro/eveniment/volei-divizia-a1-masculin-csm-bucuresti-csu-stiinta-politehnica-bucuresti/
LOCATION:Sala Unirea Dobroești\, Str. Nicolae Bălcescu 16\, Dobroești\, Ilfov\, 077085\, Romania
CATEGORIES:SPORT,VOLEI
ATTACH;FMTTYPE=image/jpeg:https://sportcafe.ro/wp-content/uploads/2025/10/volei.jpeg
END:VEVENT
BEGIN:VEVENT
DTSTART;TZID=Europe/Bucharest:20251020T190000
DTEND;TZID=Europe/Bucharest:20251020T190000
DTSTAMP:20260422T142715
CREATED:20251015T112148Z
LAST-MODIFIED:20251015T112158Z
UID:2124-1760986800-1760986800@sportcafe.ro
SUMMARY:VOLEI - Divizia A1\, Masculin: CS Rapid București - CS Unirea Dej
DESCRIPTION:Meci din etapa 1 a Diviziei A1 la volei masculin. Întâlnirea dintre CS Rapid București și CS Unirea Dej este programată luni\, 20 octombrie\, de la ora 19:00\, la Sala Polivalentă Rapid.
URL:https://sportcafe.ro/eveniment/volei-divizia-a1-masculin-cs-rapid-bucuresti-cs-unirea-dej/
LOCATION:Sala Polivalentă Rapid\, Calea Giulești\, nr. 18\, Romania
CATEGORIES:SPORT,VOLEI
ATTACH;FMTTYPE=image/jpeg:https://sportcafe.ro/wp-content/uploads/2025/10/volei.jpeg
END:VEVENT
END:VCALENDAR