BEGIN:VCALENDAR
VERSION:2.0
PRODID:-//sportcafe.ro - ECPv6.15.11//NONSGML v1.0//EN
CALSCALE:GREGORIAN
METHOD:PUBLISH
X-ORIGINAL-URL:https://sportcafe.ro
X-WR-CALDESC:Evenimente pentru sportcafe.ro
REFRESH-INTERVAL;VALUE=DURATION:PT1H
X-Robots-Tag:noindex
X-PUBLISHED-TTL:PT1H
BEGIN:VTIMEZONE
TZID:Europe/Bucharest
BEGIN:DAYLIGHT
TZOFFSETFROM:+0200
TZOFFSETTO:+0300
TZNAME:EEST
DTSTART:20250330T010000
END:DAYLIGHT
BEGIN:STANDARD
TZOFFSETFROM:+0300
TZOFFSETTO:+0200
TZNAME:EET
DTSTART:20251026T010000
END:STANDARD
BEGIN:DAYLIGHT
TZOFFSETFROM:+0200
TZOFFSETTO:+0300
TZNAME:EEST
DTSTART:20260329T010000
END:DAYLIGHT
BEGIN:STANDARD
TZOFFSETFROM:+0300
TZOFFSETTO:+0200
TZNAME:EET
DTSTART:20261025T010000
END:STANDARD
BEGIN:DAYLIGHT
TZOFFSETFROM:+0200
TZOFFSETTO:+0300
TZNAME:EEST
DTSTART:20270328T010000
END:DAYLIGHT
BEGIN:STANDARD
TZOFFSETFROM:+0300
TZOFFSETTO:+0200
TZNAME:EET
DTSTART:20271031T010000
END:STANDARD
END:VTIMEZONE
BEGIN:VEVENT
DTSTART;TZID=Europe/Bucharest:20260208T163000
DTEND;TZID=Europe/Bucharest:20260208T163000
DTSTAMP:20260420T100317
CREATED:20260128T132526Z
LAST-MODIFIED:20260128T132541Z
UID:4129-1770568200-1770568200@sportcafe.ro
SUMMARY:TEATRU | TEATRUL ROȘU: Bărbați care salvează femei
DESCRIPTION:BĂRBAȚI CARE SALVEAZĂ FEMEI este un spectacol-coupé de teatru\, primul „sezon” al unui serial teatral de piese scurte. Acest prim „sezon” aduce în prim-plan\, în manieră comică\, dinamica dintre cele două sexe\, prin prisma definițiilor diverse pe care le presupun și conțin atât masculinitatea\, cât și feminitatea. Mitul (sau stereotipul) cavalerului pe cal alb este susținut sau demontat\, privit în oglindă sau răsturnat. Au nevoie femeile să fie salvate? Dar bărbații? Salvați de ce anume și de către cine? \nPrin aceste scurte episoade teatrale\, spectacolul (și întregul serial teatral) își propune să transmită ideea că\, deși viața e haotică și adeseori incoerentă\, există un fir roșu subteran care leagă tot de toate\, ca un circuit electric. \nTraducerea\, adaptarea\, colajul și regia: Doina Antohi. Scenografia: Mădălina Mihai și Florin Pop. Coregrafia: Eduard Adam. \nDesfășurător – Episoade \nPRIVEGHIUL (Doina Antohi\, Eduard Adam)\nSUPEREROU (Ioana Barbu\, Gabriel Hrițcu)\nDE ÎNCHIRIAT (Doina Antohi\, Eduard Adam)\nACTIVITĂȚI EXTRAȘCOLARE (Doina Antohi\, Gabriel Hrițcu)\nFRED ASTAIRE (Ioana Barbu\, Eduard Adam)\nO ÎNTREBARE ÎNFRICOȘĂTOARE (Ioana Barbu\, Gabriel Hrițcu)\nRecomandat: 16+ \nBILETE AICI
URL:https://sportcafe.ro/eveniment/teatru-teatrul-rosu-barbati-care-salveaza-femei/
LOCATION:The Hub\, Strada Bărăției 31\, București\, 030167
CATEGORIES:TEATRU
ATTACH;FMTTYPE=image/jpeg:https://sportcafe.ro/wp-content/uploads/2026/01/eveniment-teatru-landscape.jpg
END:VEVENT
END:VCALENDAR