BEGIN:VCALENDAR
VERSION:2.0
PRODID:-//sportcafe.ro - ECPv6.15.11//NONSGML v1.0//EN
CALSCALE:GREGORIAN
METHOD:PUBLISH
X-WR-CALNAME:sportcafe.ro
X-ORIGINAL-URL:https://sportcafe.ro
X-WR-CALDESC:Evenimente pentru sportcafe.ro
REFRESH-INTERVAL;VALUE=DURATION:PT1H
X-Robots-Tag:noindex
X-PUBLISHED-TTL:PT1H
BEGIN:VTIMEZONE
TZID:Europe/Bucharest
BEGIN:DAYLIGHT
TZOFFSETFROM:+0200
TZOFFSETTO:+0300
TZNAME:EEST
DTSTART:20240331T010000
END:DAYLIGHT
BEGIN:STANDARD
TZOFFSETFROM:+0300
TZOFFSETTO:+0200
TZNAME:EET
DTSTART:20241027T010000
END:STANDARD
BEGIN:DAYLIGHT
TZOFFSETFROM:+0200
TZOFFSETTO:+0300
TZNAME:EEST
DTSTART:20250330T010000
END:DAYLIGHT
BEGIN:STANDARD
TZOFFSETFROM:+0300
TZOFFSETTO:+0200
TZNAME:EET
DTSTART:20251026T010000
END:STANDARD
BEGIN:DAYLIGHT
TZOFFSETFROM:+0200
TZOFFSETTO:+0300
TZNAME:EEST
DTSTART:20260329T010000
END:DAYLIGHT
BEGIN:STANDARD
TZOFFSETFROM:+0300
TZOFFSETTO:+0200
TZNAME:EET
DTSTART:20261025T010000
END:STANDARD
END:VTIMEZONE
BEGIN:VEVENT
DTSTART;TZID=Europe/Bucharest:20251009T193000
DTEND;TZID=Europe/Bucharest:20251009T193000
DTSTAMP:20260419T224359
CREATED:20251009T095050Z
LAST-MODIFIED:20251009T095058Z
UID:1712-1760038200-1760038200@sportcafe.ro
SUMMARY:BASCHET - EuroCup Women: CS Rapid - Piestanske Cajky
DESCRIPTION:Rapid debutează joi\, 9 octombrie 2025 în EuroCup Women. Fanii sunt așteptați la Sala Rapid. Meciul începe la ora 19:30. \nBILETE AICI
URL:https://sportcafe.ro/eveniment/baschet-eurocup-women-cs-rapid-piestanske-cajky/
LOCATION:Sala Polivalentă Rapid\, Calea Giulești\, nr. 18\, Romania
CATEGORIES:BASCHET,SPORT
ATTACH;FMTTYPE=image/jpeg:https://sportcafe.ro/wp-content/uploads/2025/10/baschet-rapid.jpg
END:VEVENT
END:VCALENDAR