BEGIN:VCALENDAR
VERSION:2.0
PRODID:-//sportcafe.ro - ECPv6.15.11//NONSGML v1.0//EN
CALSCALE:GREGORIAN
METHOD:PUBLISH
X-ORIGINAL-URL:https://sportcafe.ro
X-WR-CALDESC:Evenimente pentru sportcafe.ro
REFRESH-INTERVAL;VALUE=DURATION:PT1H
X-Robots-Tag:noindex
X-PUBLISHED-TTL:PT1H
BEGIN:VTIMEZONE
TZID:Europe/Bucharest
BEGIN:DAYLIGHT
TZOFFSETFROM:+0200
TZOFFSETTO:+0300
TZNAME:EEST
DTSTART:20240331T010000
END:DAYLIGHT
BEGIN:STANDARD
TZOFFSETFROM:+0300
TZOFFSETTO:+0200
TZNAME:EET
DTSTART:20241027T010000
END:STANDARD
BEGIN:DAYLIGHT
TZOFFSETFROM:+0200
TZOFFSETTO:+0300
TZNAME:EEST
DTSTART:20250330T010000
END:DAYLIGHT
BEGIN:STANDARD
TZOFFSETFROM:+0300
TZOFFSETTO:+0200
TZNAME:EET
DTSTART:20251026T010000
END:STANDARD
BEGIN:DAYLIGHT
TZOFFSETFROM:+0200
TZOFFSETTO:+0300
TZNAME:EEST
DTSTART:20260329T010000
END:DAYLIGHT
BEGIN:STANDARD
TZOFFSETFROM:+0300
TZOFFSETTO:+0200
TZNAME:EET
DTSTART:20261025T010000
END:STANDARD
END:VTIMEZONE
BEGIN:VEVENT
DTSTART;TZID=Europe/Bucharest:20251023T194500
DTEND;TZID=Europe/Bucharest:20251023T194500
DTSTAMP:20260420T154354
CREATED:20251012T003216Z
LAST-MODIFIED:20251012T003224Z
UID:1893-1761248700-1761248700@sportcafe.ro
SUMMARY:HANDBAL - LIGA CAMPIONILOR: DINAMO - KIELCE
DESCRIPTION:Un nou meci pe teren propriu pentru Dinamo București în Liga Campionilor la handbal masculin. „Dulăii” nu au strâns deocamdată niciun punct în competiție și ocupă ultimul loc în grupă. Meciul Dinamo – Kielce este programat joi\, 23 octombrie 2025\, de la ora 19:45. \nBILETE AICI
URL:https://sportcafe.ro/eveniment/handbal-liga-campionilor-dinamo-kielce/
LOCATION:Sala Polivalentă „Dinamo”\, Șoseaua Ștefan cel Mare\, Nr. 7-9\, București\, Sector 2\, 020121\, Romania
CATEGORIES:HANDBAL,SPORT
ATTACH;FMTTYPE=image/jpeg:https://sportcafe.ro/wp-content/uploads/2025/09/CS-DINAMO-BUCURESTI-HC-EUROFARM-PELISTER-EHF-CHAMPIONS-LEAGUE-26.09.2024-.jpg
END:VEVENT
END:VCALENDAR