BEGIN:VCALENDAR
VERSION:2.0
PRODID:-//sportcafe.ro - ECPv6.15.11//NONSGML v1.0//EN
CALSCALE:GREGORIAN
METHOD:PUBLISH
X-WR-CALNAME:sportcafe.ro
X-ORIGINAL-URL:https://sportcafe.ro
X-WR-CALDESC:Evenimente pentru sportcafe.ro
REFRESH-INTERVAL;VALUE=DURATION:PT1H
X-Robots-Tag:noindex
X-PUBLISHED-TTL:PT1H
BEGIN:VTIMEZONE
TZID:Europe/Bucharest
BEGIN:DAYLIGHT
TZOFFSETFROM:+0200
TZOFFSETTO:+0300
TZNAME:EEST
DTSTART:20240331T010000
END:DAYLIGHT
BEGIN:STANDARD
TZOFFSETFROM:+0300
TZOFFSETTO:+0200
TZNAME:EET
DTSTART:20241027T010000
END:STANDARD
BEGIN:DAYLIGHT
TZOFFSETFROM:+0200
TZOFFSETTO:+0300
TZNAME:EEST
DTSTART:20250330T010000
END:DAYLIGHT
BEGIN:STANDARD
TZOFFSETFROM:+0300
TZOFFSETTO:+0200
TZNAME:EET
DTSTART:20251026T010000
END:STANDARD
BEGIN:DAYLIGHT
TZOFFSETFROM:+0200
TZOFFSETTO:+0300
TZNAME:EEST
DTSTART:20260329T010000
END:DAYLIGHT
BEGIN:STANDARD
TZOFFSETFROM:+0300
TZOFFSETTO:+0200
TZNAME:EET
DTSTART:20261025T010000
END:STANDARD
END:VTIMEZONE
BEGIN:VEVENT
DTSTART;TZID=Europe/Bucharest:20251102T170000
DTEND;TZID=Europe/Bucharest:20251102T170000
DTSTAMP:20260422T112732
CREATED:20251027T115939Z
LAST-MODIFIED:20251027T115947Z
UID:2387-1762102800-1762102800@sportcafe.ro
SUMMARY:TEATRU | TEATRUL ROȘU | Marea abureală (premieră)
DESCRIPTION:Când o întâlnire merge prost\, s-ar putea să ai noroc în viață. – Nae \nÎntr-o gară\, trenurile vin\, trenurile pleacă\, dar unele întâlniri sunt memorabile. – tot Nae. \nNae este un personaj complex – bărbat\, bețiv\, filozof\, profesor și romantic la un loc\, care a trecut prin atât de multe întâmplări\, încă nici nu ar avea cum să și le amintească pe toate. Dar toate au legătură cu o gară mică\, de țară\, unde destinul lui este într-o continuă schimbare. \nVine in fața voastră direct și sincer\, cu o poveste care se transformă într-o comedie spumoasă (sau spumantă?!) despre relații\, oameni\, sate\, orașe\, țări străine. \nUn one man show comic\, cu Emanuel Bighe („Divorț în ziua nunții”\, „Iubire dublu distilată”). \nRecomandat: 10+ \nBILETE AICI
URL:https://sportcafe.ro/eveniment/teatru-teatrul-rosu-marea-abureala-premiera/
LOCATION:The Hub\, Strada Bărăției 31\, București\, 030167
CATEGORIES:TEATRU
ATTACH;FMTTYPE=image/jpeg:https://sportcafe.ro/wp-content/uploads/2025/10/afis-marea-abureala.jpg
END:VEVENT
END:VCALENDAR