BEGIN:VCALENDAR
VERSION:2.0
PRODID:-//sportcafe.ro - ECPv6.15.11//NONSGML v1.0//EN
CALSCALE:GREGORIAN
METHOD:PUBLISH
X-ORIGINAL-URL:https://sportcafe.ro
X-WR-CALDESC:Evenimente pentru sportcafe.ro
REFRESH-INTERVAL;VALUE=DURATION:PT1H
X-Robots-Tag:noindex
X-PUBLISHED-TTL:PT1H
BEGIN:VTIMEZONE
TZID:Europe/Bucharest
BEGIN:DAYLIGHT
TZOFFSETFROM:+0200
TZOFFSETTO:+0300
TZNAME:EEST
DTSTART:20250330T010000
END:DAYLIGHT
BEGIN:STANDARD
TZOFFSETFROM:+0300
TZOFFSETTO:+0200
TZNAME:EET
DTSTART:20251026T010000
END:STANDARD
BEGIN:DAYLIGHT
TZOFFSETFROM:+0200
TZOFFSETTO:+0300
TZNAME:EEST
DTSTART:20260329T010000
END:DAYLIGHT
BEGIN:STANDARD
TZOFFSETFROM:+0300
TZOFFSETTO:+0200
TZNAME:EET
DTSTART:20261025T010000
END:STANDARD
BEGIN:DAYLIGHT
TZOFFSETFROM:+0200
TZOFFSETTO:+0300
TZNAME:EEST
DTSTART:20270328T010000
END:DAYLIGHT
BEGIN:STANDARD
TZOFFSETFROM:+0300
TZOFFSETTO:+0200
TZNAME:EET
DTSTART:20271031T010000
END:STANDARD
END:VTIMEZONE
BEGIN:VEVENT
DTSTART;TZID=Europe/Bucharest:20260131T150000
DTEND;TZID=Europe/Bucharest:20260131T150000
DTSTAMP:20260420T104043
CREATED:20260128T205301Z
LAST-MODIFIED:20260128T205309Z
UID:4242-1769871600-1769871600@sportcafe.ro
SUMMARY:HANDBAL - LIGA FLORILOR: CS Rapid București - HC Dunărea Brăila
DESCRIPTION:Meci din etapa a 13-a a Ligii Florilor. Rapid București – Dunărea Brăila se dispută sâmbătă\, 31 ianuarie 2026\, de la ora 15:00\, la Sala Polivalentă „Rapid”. \nBILETE AICI
URL:https://sportcafe.ro/eveniment/handbal-liga-florilor-cs-rapid-bucuresti-hc-dunarea-braila/
LOCATION:Sala Polivalentă Rapid\, Calea Giulești\, nr. 18\, Romania
CATEGORIES:HANDBAL,SPORT
ATTACH;FMTTYPE=image/jpeg:https://sportcafe.ro/wp-content/uploads/2026/01/eveniment-sportiv-handbal-f-landscape.jpg
END:VEVENT
END:VCALENDAR